BEGIN:VCALENDAR
VERSION:2.0
PRODID:-//jEvents 2.0 for Joomla//EN
CALSCALE:GREGORIAN
METHOD:PUBLISH
BEGIN:VEVENT
UID:c6ce5eab44fd36241b4312d950bd9cfc
CATEGORIES:Leagues
CREATED:20250825T191650
SUMMARY:Junior League 
URL;VALUE=URI:https://mail.ndcc.ca/index.php/events/calendar/icalrepeat.detail/2026/01/04
 /11279/-/junior-league?tmpl=component
DESCRIPTION: <a href="https://mail.ndcc.ca/index.php/events/calendar/icalrepeat.detail/
 2026/01/04/11279/-/junior-league?tmpl=component">This event was imported fr
 om: https://mail.ndcc.ca/index.php/events/calendar/icalrepeat.detail/2026/0
 1/04/11279/-/junior-league?tmpl=component</a>DTSTAMP:20260419T190524
DTSTART:20260104T150000
DTEND:20260104T170000
SEQUENCE:0
TRANSP:OPAQUE
END:VEVENT
END:VCALENDAR