BEGIN:VCALENDAR
VERSION:2.0
PRODID:-//jEvents 2.0 for Joomla//EN
CALSCALE:GREGORIAN
METHOD:PUBLISH
BEGIN:VEVENT
UID:c6ce5eab44fd36241b4312d950bd9cfc
CATEGORIES:Leagues
CREATED:20250825T191650
SUMMARY:Junior League 
URL;VALUE=URI:https://mail.ndcc.ca/index.php/events/calendar/icalrepeat.detail/2025/11/23
 /11273/-/junior-league?tmpl=component
DESCRIPTION: <a href="https://mail.ndcc.ca/index.php/events/calendar/icalrepeat.detail/
 2025/11/23/11273/-/junior-league?tmpl=component">This event was imported fr
 om: https://mail.ndcc.ca/index.php/events/calendar/icalrepeat.detail/2025/1
 1/23/11273/-/junior-league?tmpl=component</a>DTSTAMP:20260420T023634
DTSTART:20251123T150000
DTEND:20251123T170000
SEQUENCE:0
TRANSP:OPAQUE
END:VEVENT
END:VCALENDAR